BEGIN:VCALENDAR
VERSION:2.0
PRODID:-//Tukios.com/
BEGIN:VEVENT
UID:4ea5ef0d-dfae-4bd6-8af9-bef1848601f3@www.flynnfh.com
DTSTAMP:20260424T023753Z
DTSTART:20260506T140000Z
DTEND:20260506T143000Z
SUMMARY:Burial
DESCRIPTION:
URL:https://www.flynnfh.com/obituaries/patricia-mardula
LOCATION: 111 Craigville Road  Goshen NY 10924
GEO:41.40111;-74.300029
END:VEVENT
END:VCALENDAR